BEGIN:VCALENDAR
VERSION:2.0
PRODID:-//Quintessential Relaxation - ECPv6.15.17//NONSGML v1.0//EN
CALSCALE:GREGORIAN
METHOD:PUBLISH
X-WR-CALNAME:Quintessential Relaxation
X-ORIGINAL-URL:https://quintessentialrelaxation.ca
X-WR-CALDESC:Events for Quintessential Relaxation
REFRESH-INTERVAL;VALUE=DURATION:PT1H
X-Robots-Tag:noindex
X-PUBLISHED-TTL:PT1H
BEGIN:VTIMEZONE
TZID:America/Toronto
BEGIN:DAYLIGHT
TZOFFSETFROM:-0500
TZOFFSETTO:-0400
TZNAME:EDT
DTSTART:20220313T070000
END:DAYLIGHT
BEGIN:STANDARD
TZOFFSETFROM:-0400
TZOFFSETTO:-0500
TZNAME:EST
DTSTART:20221106T060000
END:STANDARD
BEGIN:DAYLIGHT
TZOFFSETFROM:-0500
TZOFFSETTO:-0400
TZNAME:EDT
DTSTART:20230312T070000
END:DAYLIGHT
BEGIN:STANDARD
TZOFFSETFROM:-0400
TZOFFSETTO:-0500
TZNAME:EST
DTSTART:20231105T060000
END:STANDARD
BEGIN:DAYLIGHT
TZOFFSETFROM:-0500
TZOFFSETTO:-0400
TZNAME:EDT
DTSTART:20240310T070000
END:DAYLIGHT
BEGIN:STANDARD
TZOFFSETFROM:-0400
TZOFFSETTO:-0500
TZNAME:EST
DTSTART:20241103T060000
END:STANDARD
END:VTIMEZONE
BEGIN:VEVENT
DTSTART;TZID=America/Toronto:20230823T190000
DTEND;TZID=America/Toronto:20230823T203000
DTSTAMP:20260421T073255
CREATED:20230731T182841Z
LAST-MODIFIED:20230828T010010Z
UID:5738-1692817200-1692822600@quintessentialrelaxation.ca
SUMMARY:Sound Healing with Meditation
DESCRIPTION:You are cordially invited to a transformative Sound Healing Session that promises to soothe your mind\, uplift your spirit\, and rejuvenate your energy. This session will be a harmonious journey of setting intentions and sharing healing energy. \nImmerse yourself in the gentle embrace of sound as we explore the profound healing potential of vibrations. Guided by me (Tina)\, we will collectively set intentions for personal growth\, healing\, and inner harmony. Through a carefully curated blend of sound frequencies\, including singing bowls\, chimes\, and other instruments\, we will create a sacred space that resonates with your being. \nThis session offers a unique opportunity to release stagnant energy\, invite positive shifts\, and deepen your connection with your inner self. Together\, we will channel our intentions\, amplify healing energy\, and support one another on this shared journey of transformation. \n  \nMissed this one? No problem! Stay connected for new upcoming dates.
URL:https://quintessentialrelaxation.ca/event/sound-healing-with-meditation/
LOCATION:The Mindful Hub\, 405 Nyberg street\, Kitchener\, ON\, Canada
CATEGORIES:Guided Meditation,Sound Healing
ATTACH;FMTTYPE=image/jpeg:https://quintessentialrelaxation.ca/wp-content/uploads/2023/07/IMG_0027.jpeg
ORGANIZER;CN="Quintessential Relaxation":MAILTO:quint.relaxation@gmail.com
END:VEVENT
END:VCALENDAR