BEGIN:VCALENDAR
VERSION:2.0
PRODID:-//Quintessential Relaxation - ECPv6.15.17//NONSGML v1.0//EN
CALSCALE:GREGORIAN
METHOD:PUBLISH
X-ORIGINAL-URL:https://quintessentialrelaxation.ca
X-WR-CALDESC:Events for Quintessential Relaxation
REFRESH-INTERVAL;VALUE=DURATION:PT1H
X-Robots-Tag:noindex
X-PUBLISHED-TTL:PT1H
BEGIN:VTIMEZONE
TZID:America/Toronto
BEGIN:DAYLIGHT
TZOFFSETFROM:-0500
TZOFFSETTO:-0400
TZNAME:EDT
DTSTART:20220313T070000
END:DAYLIGHT
BEGIN:STANDARD
TZOFFSETFROM:-0400
TZOFFSETTO:-0500
TZNAME:EST
DTSTART:20221106T060000
END:STANDARD
BEGIN:DAYLIGHT
TZOFFSETFROM:-0500
TZOFFSETTO:-0400
TZNAME:EDT
DTSTART:20230312T070000
END:DAYLIGHT
BEGIN:STANDARD
TZOFFSETFROM:-0400
TZOFFSETTO:-0500
TZNAME:EST
DTSTART:20231105T060000
END:STANDARD
BEGIN:DAYLIGHT
TZOFFSETFROM:-0500
TZOFFSETTO:-0400
TZNAME:EDT
DTSTART:20240310T070000
END:DAYLIGHT
BEGIN:STANDARD
TZOFFSETFROM:-0400
TZOFFSETTO:-0500
TZNAME:EST
DTSTART:20241103T060000
END:STANDARD
END:VTIMEZONE
BEGIN:VEVENT
DTSTART;TZID=America/Toronto:20230824T080000
DTEND;TZID=America/Toronto:20230824T170000
DTSTAMP:20260421T073619
CREATED:20230731T182916Z
LAST-MODIFIED:20230828T011845Z
UID:5742-1692864000-1692896400@quintessentialrelaxation.ca
SUMMARY:Sound Healing with Restorative Yoga
DESCRIPTION:Immerse yourself in a harmonious journey of healing and relaxation with our Sound Healing with Restorative Yoga event. Join us for a serene experience that combines the therapeutic benefits of restorative yoga postures with the soothing vibrations of sound therapy. Let the gentle sounds of singing bowls\, chimes\, and other instruments guide you into a state of deep tranquility\, enhancing your body’s natural ability to heal and rejuvenate. Whether you’re seeking stress relief\, emotional balance\, or simply a moment of stillness\, this event offers a unique blend of practices to nourish your mind\, body\, and soul. \nJoin Tina and Angela Bryson (Angels Landing and Yoga) \nSound Healing with Restorative Yoga~ New dates in the Works – stay connected \nRegistering for this is through quint.relaxation@gmail.com
URL:https://quintessentialrelaxation.ca/event/sound-healing-with-restorative-yoga/
LOCATION:Uptown Waterloo\, Waterloo\, Ontario\, Canada
ATTACH;FMTTYPE=image/jpeg:https://quintessentialrelaxation.ca/wp-content/uploads/2023/07/IMG_7206-scaled.jpeg
ORGANIZER;CN="Quintessential Relaxation":MAILTO:quint.relaxation@gmail.com
END:VEVENT
END:VCALENDAR