BEGIN:VCALENDAR
VERSION:2.0
PRODID:-//Quintessential Relaxation - ECPv6.15.17//NONSGML v1.0//EN
CALSCALE:GREGORIAN
METHOD:PUBLISH
X-ORIGINAL-URL:https://quintessentialrelaxation.ca
X-WR-CALDESC:Events for Quintessential Relaxation
REFRESH-INTERVAL;VALUE=DURATION:PT1H
X-Robots-Tag:noindex
X-PUBLISHED-TTL:PT1H
BEGIN:VTIMEZONE
TZID:America/Toronto
BEGIN:DAYLIGHT
TZOFFSETFROM:-0500
TZOFFSETTO:-0400
TZNAME:EDT
DTSTART:20220313T070000
END:DAYLIGHT
BEGIN:STANDARD
TZOFFSETFROM:-0400
TZOFFSETTO:-0500
TZNAME:EST
DTSTART:20221106T060000
END:STANDARD
BEGIN:DAYLIGHT
TZOFFSETFROM:-0500
TZOFFSETTO:-0400
TZNAME:EDT
DTSTART:20230312T070000
END:DAYLIGHT
BEGIN:STANDARD
TZOFFSETFROM:-0400
TZOFFSETTO:-0500
TZNAME:EST
DTSTART:20231105T060000
END:STANDARD
BEGIN:DAYLIGHT
TZOFFSETFROM:-0500
TZOFFSETTO:-0400
TZNAME:EDT
DTSTART:20240310T070000
END:DAYLIGHT
BEGIN:STANDARD
TZOFFSETFROM:-0400
TZOFFSETTO:-0500
TZNAME:EST
DTSTART:20241103T060000
END:STANDARD
END:VTIMEZONE
BEGIN:VEVENT
DTSTART;TZID=America/Toronto:20231122T190000
DTEND;TZID=America/Toronto:20231122T203000
DTSTAMP:20260421T011357
CREATED:20231008T161518Z
LAST-MODIFIED:20231026T055114Z
UID:5988-1700679600-1700685000@quintessentialrelaxation.ca
SUMMARY:Sound Healing\, Meditation with Individual Reiki
DESCRIPTION:Welcome to our transformative Spiritual Sound Healing Session with Guided Meditation. Immerse yourself in an oasis of serenity and rejuvenation as we embark on a profound journey of healing for the mind\, body\, and soul. \nOur sessions are carefully crafted to provide you with a harmonious blend of ancient wisdom and modern therapeutic techniques. Through the gentle power of sound\, you will experience a deep sense of relaxation\, inner peace\, and spiritual connection. \nDuring our sessions\, you will be guided by an experienced practitioner who will lead you through a meditative journey\, helping you release stress\, clear blockages\, and balance your energy centers. The soothing sounds of Crystal bowls\, chimes\, and other sacred instruments will envelop you\, creating a sacred space for self-discovery and renewal. \nBenefits of our Spiritual Sound Healing Session with Guided Meditation include: \n1. Stress Reduction: Release tension and anxiety\, promoting a calm and tranquil state of mind.\n2. Emotional Healing: Address and release emotional wounds\, fostering emotional well-being.\n3. Spiritual Connection: Deepen your spiritual awareness and connection to your inner self.\n4. Physical Healing: Support physical healing through vibrational therapy.\n5. Enhanced Creativity: Unblock creative energies and inspire newfound creativity.\n6. Chakra Balancing: Harmonize your energy centers for greater vitality and balance. \nWhether you are seeking relaxation\, inner peace\, or a profound spiritual experience\, our Spiritual Sound Healing Session with Guided Meditation offers a safe and nurturing space for your personal journey. Join us to awaken your inner harmony and leave feeling refreshed\, rejuvenated\, and aligned with your true self.
URL:https://quintessentialrelaxation.ca/event/sound-healing-with-meditation-3/
LOCATION:The Mindful Hub\, 405 Nyberg street\, Kitchener\, ON\, Canada
END:VEVENT
END:VCALENDAR