BEGIN:VCALENDAR
VERSION:2.0
PRODID:-//Quintessential Relaxation - ECPv6.15.17//NONSGML v1.0//EN
CALSCALE:GREGORIAN
METHOD:PUBLISH
X-ORIGINAL-URL:https://quintessentialrelaxation.ca
X-WR-CALDESC:Events for Quintessential Relaxation
REFRESH-INTERVAL;VALUE=DURATION:PT1H
X-Robots-Tag:noindex
X-PUBLISHED-TTL:PT1H
BEGIN:VTIMEZONE
TZID:America/Toronto
BEGIN:DAYLIGHT
TZOFFSETFROM:-0500
TZOFFSETTO:-0400
TZNAME:EDT
DTSTART:20230312T070000
END:DAYLIGHT
BEGIN:STANDARD
TZOFFSETFROM:-0400
TZOFFSETTO:-0500
TZNAME:EST
DTSTART:20231105T060000
END:STANDARD
BEGIN:DAYLIGHT
TZOFFSETFROM:-0500
TZOFFSETTO:-0400
TZNAME:EDT
DTSTART:20240310T070000
END:DAYLIGHT
BEGIN:STANDARD
TZOFFSETFROM:-0400
TZOFFSETTO:-0500
TZNAME:EST
DTSTART:20241103T060000
END:STANDARD
BEGIN:DAYLIGHT
TZOFFSETFROM:-0500
TZOFFSETTO:-0400
TZNAME:EDT
DTSTART:20250309T070000
END:DAYLIGHT
BEGIN:STANDARD
TZOFFSETFROM:-0400
TZOFFSETTO:-0500
TZNAME:EST
DTSTART:20251102T060000
END:STANDARD
END:VTIMEZONE
BEGIN:VEVENT
DTSTART;TZID=America/Toronto:20240309T090000
DTEND;TZID=America/Toronto:20240309T163000
DTSTAMP:20260420T182144
CREATED:20240201T040128Z
LAST-MODIFIED:20240201T041423Z
UID:6040-1709974800-1710001800@quintessentialrelaxation.ca
SUMMARY:Silence Is Wisdom Retreat
DESCRIPTION:Silence is Wisdom Retreat: A Retreat to Renew and Reconnect \nEmbark on a profound journey of self-discovery at our Silence is Wisdom Retreat\, where the power of silence unveils the wisdom within. Here’s why this retreat is your gateway to a life of profound insight: \n1. **Silence as a Gateway:** In silence\, we discover the profound wisdom that often eludes us in the noise of daily life. Join us to explore the transformative potential of quietude and unlock the wisdom that resides within. \n2. **Guided Meditations:** Immerse yourself in daily guided meditations designed to deepen your connection with inner wisdom. These sessions will provide practical tools to integrate mindfulness into your daily life. \n3. **Wisdom Workshops:** Engage in interactive workshops led by seasoned practitioners\, delving into ancient wisdom teachings and modern mindfulness practices. Learn how silence can be a powerful tool for cultivating wisdom in your everyday existence. \n4. **Nature Retreat Setting:** Nestled in the serenity of Cambridge\, Hespeler\, our retreat venue offers a harmonious blend of nature and tranquility. Reconnect with the natural world as you embark on a journey towards wisdom in this idyllic setting. \n5. **Silent Contemplation Spaces:** Experience moments of profound silence in designated contemplation spaces. These areas are designed to enhance your introspective journey\, allowing you to tap into the wisdom that arises in stillness. \n6. **Mindful Dialogue Sessions:** Engage in mindful conversations with fellow participants during designated dialogue sessions. Share insights\, reflections\, and wisdom gained from your unique journey through silence. \nSecure your place at the Silence is Wisdom Retreat and step into a world where silence becomes a wellspring of profound wisdom. Spaces are limited\, so register now for a transformative experience that will illuminate your path to enlightened living. \nEvent Details\nDate:March 9/2024\nTime:9am-4:30pm\nLocation:Cambridge Hespeler  \nJoin us on this transformative retreat and embrace the wisdom that silence brings.
URL:https://quintessentialrelaxation.ca/event/silence-is-wisdom-retreat/
END:VEVENT
END:VCALENDAR