BEGIN:VCALENDAR
VERSION:2.0
PRODID:-//Quintessential Relaxation - ECPv6.15.17//NONSGML v1.0//EN
CALSCALE:GREGORIAN
METHOD:PUBLISH
X-WR-CALNAME:Quintessential Relaxation
X-ORIGINAL-URL:https://quintessentialrelaxation.ca
X-WR-CALDESC:Events for Quintessential Relaxation
REFRESH-INTERVAL;VALUE=DURATION:PT1H
X-Robots-Tag:noindex
X-PUBLISHED-TTL:PT1H
BEGIN:VTIMEZONE
TZID:America/Toronto
BEGIN:DAYLIGHT
TZOFFSETFROM:-0500
TZOFFSETTO:-0400
TZNAME:EDT
DTSTART:20230312T070000
END:DAYLIGHT
BEGIN:STANDARD
TZOFFSETFROM:-0400
TZOFFSETTO:-0500
TZNAME:EST
DTSTART:20231105T060000
END:STANDARD
BEGIN:DAYLIGHT
TZOFFSETFROM:-0500
TZOFFSETTO:-0400
TZNAME:EDT
DTSTART:20240310T070000
END:DAYLIGHT
BEGIN:STANDARD
TZOFFSETFROM:-0400
TZOFFSETTO:-0500
TZNAME:EST
DTSTART:20241103T060000
END:STANDARD
BEGIN:DAYLIGHT
TZOFFSETFROM:-0500
TZOFFSETTO:-0400
TZNAME:EDT
DTSTART:20250309T070000
END:DAYLIGHT
BEGIN:STANDARD
TZOFFSETFROM:-0400
TZOFFSETTO:-0500
TZNAME:EST
DTSTART:20251102T060000
END:STANDARD
END:VTIMEZONE
BEGIN:VEVENT
DTSTART;TZID=America/Toronto:20240819T183000
DTEND;TZID=America/Toronto:20240819T200000
DTSTAMP:20260420T100231
CREATED:20240724T160046Z
LAST-MODIFIED:20240724T162611Z
UID:6067-1724092200-1724097600@quintessentialrelaxation.ca
SUMMARY:Full Moon Sound Healing with interactive drumming and Ayurvedic Mantra Meditation
DESCRIPTION:Join us under the luminous glow of the full moon for a sacred sound healing session\, where the powerful vibrations of drumming and the tranquility of meditation will guide you on a journey of transformation and renewal. \nThe full moon is a time of heightened energy and spiritual illumination\, inviting us to release what no longer serves us and embrace new beginnings. As the drumbeat resonates with the rhythm of the universe\, allow yourself to be carried into a state of deep relaxation and connection. \nWe will gather in sacred space to immerse ourselves in healing sounds and explore the depths of meditation\, drawing on the ancient wisdom of Ayurvedic mantras to harmonize our mind\, body\, and spirit. \nThis is a space for reflection\, healing\, and awakening. Come with an open heart\, ready to receive the gifts of the full moon and the power of sound. \n🌟 **Date:** August 19th\n🌟 **Time:** 6:30-8:00pm\n🌟 **Location:** 508 Duke Street Kitchener \nReserve your sacred space by contacting me at quint.relaxation@gmail.com or through this website. Let us come together in unity and love under the full moon’s embrace. 🌕✨ \nWith love and light\,\nTina Quinlan\nQuintessential Relaxation
URL:https://quintessentialrelaxation.ca/event/full-moon-sound-healing-with-interactive-drumming-and-meditation/
END:VEVENT
END:VCALENDAR