BEGIN:VCALENDAR
VERSION:2.0
PRODID:-//Quintessential Relaxation - ECPv6.15.17//NONSGML v1.0//EN
CALSCALE:GREGORIAN
METHOD:PUBLISH
X-WR-CALNAME:Quintessential Relaxation
X-ORIGINAL-URL:https://quintessentialrelaxation.ca
X-WR-CALDESC:Events for Quintessential Relaxation
REFRESH-INTERVAL;VALUE=DURATION:PT1H
X-Robots-Tag:noindex
X-PUBLISHED-TTL:PT1H
BEGIN:VTIMEZONE
TZID:America/Toronto
BEGIN:DAYLIGHT
TZOFFSETFROM:-0500
TZOFFSETTO:-0400
TZNAME:EDT
DTSTART:20220313T070000
END:DAYLIGHT
BEGIN:STANDARD
TZOFFSETFROM:-0400
TZOFFSETTO:-0500
TZNAME:EST
DTSTART:20221106T060000
END:STANDARD
BEGIN:DAYLIGHT
TZOFFSETFROM:-0500
TZOFFSETTO:-0400
TZNAME:EDT
DTSTART:20230312T070000
END:DAYLIGHT
BEGIN:STANDARD
TZOFFSETFROM:-0400
TZOFFSETTO:-0500
TZNAME:EST
DTSTART:20231105T060000
END:STANDARD
BEGIN:DAYLIGHT
TZOFFSETFROM:-0500
TZOFFSETTO:-0400
TZNAME:EDT
DTSTART:20240310T070000
END:DAYLIGHT
BEGIN:STANDARD
TZOFFSETFROM:-0400
TZOFFSETTO:-0500
TZNAME:EST
DTSTART:20241103T060000
END:STANDARD
END:VTIMEZONE
BEGIN:VEVENT
DTSTART;TZID=America/Toronto:20230723T130000
DTEND;TZID=America/Toronto:20230723T150000
DTSTAMP:20260421T000221
CREATED:20230729T001240Z
LAST-MODIFIED:20230731T183118Z
UID:5401-1690117200-1690124400@quintessentialrelaxation.ca
SUMMARY:Sound Healing with Energy Work
DESCRIPTION:RoofTop Resonance July 23rd. 1-3pm in uptown Waterloo. Sound Healing- Spirit connecting and Reiki. Shade will be available.
URL:https://quintessentialrelaxation.ca/event/sound-healing-with-energy-work/
LOCATION:Uptown Waterloo\, Waterloo\, Ontario\, Canada
CATEGORIES:Energy Work,Sound Healing
ATTACH;FMTTYPE=image/jpeg:https://quintessentialrelaxation.ca/wp-content/uploads/2023/07/IMG_5915-scaled.jpeg
ORGANIZER;CN="Quintessential Relaxation":MAILTO:quint.relaxation@gmail.com
END:VEVENT
END:VCALENDAR