BEGIN:VCALENDAR
VERSION:2.0
PRODID:-//Quintessential Relaxation - ECPv6.15.17//NONSGML v1.0//EN
CALSCALE:GREGORIAN
METHOD:PUBLISH
X-ORIGINAL-URL:https://quintessentialrelaxation.ca
X-WR-CALDESC:Events for Quintessential Relaxation
REFRESH-INTERVAL;VALUE=DURATION:PT1H
X-Robots-Tag:noindex
X-PUBLISHED-TTL:PT1H
BEGIN:VTIMEZONE
TZID:America/Toronto
BEGIN:DAYLIGHT
TZOFFSETFROM:-0500
TZOFFSETTO:-0400
TZNAME:EDT
DTSTART:20220313T070000
END:DAYLIGHT
BEGIN:STANDARD
TZOFFSETFROM:-0400
TZOFFSETTO:-0500
TZNAME:EST
DTSTART:20221106T060000
END:STANDARD
BEGIN:DAYLIGHT
TZOFFSETFROM:-0500
TZOFFSETTO:-0400
TZNAME:EDT
DTSTART:20230312T070000
END:DAYLIGHT
BEGIN:STANDARD
TZOFFSETFROM:-0400
TZOFFSETTO:-0500
TZNAME:EST
DTSTART:20231105T060000
END:STANDARD
BEGIN:DAYLIGHT
TZOFFSETFROM:-0500
TZOFFSETTO:-0400
TZNAME:EDT
DTSTART:20240310T070000
END:DAYLIGHT
BEGIN:STANDARD
TZOFFSETFROM:-0400
TZOFFSETTO:-0500
TZNAME:EST
DTSTART:20241103T060000
END:STANDARD
END:VTIMEZONE
BEGIN:VEVENT
DTSTART;TZID=America/Toronto:20230915T190000
DTEND;TZID=America/Toronto:20230915T203000
DTSTAMP:20260421T033835
CREATED:20230829T030723Z
LAST-MODIFIED:20230829T030742Z
UID:5970-1694804400-1694809800@quintessentialrelaxation.ca
SUMMARY:Sound Healing with Meditation
DESCRIPTION:🌟 Invitation to Sound Healing Session 🌟 \nTo whom it may concern\, \nYou are cordially invited to a transformative Sound Healing Session that promises to soothe your mind\, uplift your spirit\, and rejuvenate your energy. This session will be a harmonious journey of setting intentions and sharing healing energy. \nDate: September 15th\nTime: 7pm-8:30pm\nLocation: The Mindful Hub \nImmerse yourself in the gentle embrace of sound as we explore the profound healing potential of vibrations. Guided by Tina Q.\, we will collectively set intentions for personal growth\, healing\, and inner harmony. Through a carefully curated blend of sound frequencies\, including singing bowls\, chimes\, and other instruments\, we will create a sacred space that resonates with your being. \nThis session offers a unique opportunity to release stagnant energy\, invite positive shifts\, and deepen your connection with your inner self. Together\, we will channel our intentions\, amplify healing energy\, and support one another on this shared journey of transformation. \nPlease RSVP with e transfer to quint.relaxation@gmail.com by September 14th to ensure your spot\, as space is limited. Comfortable clothing is recommended\, allowing you to fully embrace the experience. Please bring your yoga mat a blanket and a water bottle. \nWe look forward to sharing this magical Sound Healing Session with you and co-creating a harmonious space for healing and growth. \nWith love and healing intentions\,\nTina Quinlan
URL:https://quintessentialrelaxation.ca/event/sound-healing-with-meditation-2/
LOCATION:The Mindful Hub\, 405 Nyberg street\, Kitchener\, ON\, Canada
ORGANIZER;CN="Quintessential Relaxation":MAILTO:quint.relaxation@gmail.com
END:VEVENT
BEGIN:VEVENT
DTSTART;TZID=America/Toronto:20230925T190000
DTEND;TZID=America/Toronto:20230925T203000
DTSTAMP:20260421T033835
CREATED:20230829T031209Z
LAST-MODIFIED:20230829T031217Z
UID:5972-1695668400-1695673800@quintessentialrelaxation.ca
SUMMARY:Sound Healing with Restorative Yoga
DESCRIPTION:Immerse yourself in a harmonious journey of healing and relaxation with our Sound Healing with Restorative Yoga event. Join us Tina Quinlan and Angela Bryson\, for a serene experience that combines the therapeutic benefits of restorative yoga postures with the soothing vibrations of sound therapy. Let the gentle sounds of singing bowls\, chimes\, and other instruments guide you into a state of deep tranquility\, enhancing your body’s natural ability to heal and rejuvenate. Whether you’re seeking stress relief\, emotional balance\, or simply a moment of stillness\, this event offers a unique blend of practices to nourish your mind\, body\, and soul.
URL:https://quintessentialrelaxation.ca/event/sound-healing-with-restorative-yoga-2/
LOCATION:The Mindful Hub\, 405 Nyberg street\, Kitchener\, ON\, Canada
ORGANIZER;CN="Quintessential Relaxation":MAILTO:quint.relaxation@gmail.com
END:VEVENT
END:VCALENDAR