BEGIN:VCALENDAR
VERSION:2.0
PRODID:-//Quintessential Relaxation - ECPv6.15.17//NONSGML v1.0//EN
CALSCALE:GREGORIAN
METHOD:PUBLISH
X-ORIGINAL-URL:https://quintessentialrelaxation.ca
X-WR-CALDESC:Events for Quintessential Relaxation
REFRESH-INTERVAL;VALUE=DURATION:PT1H
X-Robots-Tag:noindex
X-PUBLISHED-TTL:PT1H
BEGIN:VTIMEZONE
TZID:America/Toronto
BEGIN:DAYLIGHT
TZOFFSETFROM:-0500
TZOFFSETTO:-0400
TZNAME:EDT
DTSTART:20220313T070000
END:DAYLIGHT
BEGIN:STANDARD
TZOFFSETFROM:-0400
TZOFFSETTO:-0500
TZNAME:EST
DTSTART:20221106T060000
END:STANDARD
BEGIN:DAYLIGHT
TZOFFSETFROM:-0500
TZOFFSETTO:-0400
TZNAME:EDT
DTSTART:20230312T070000
END:DAYLIGHT
BEGIN:STANDARD
TZOFFSETFROM:-0400
TZOFFSETTO:-0500
TZNAME:EST
DTSTART:20231105T060000
END:STANDARD
BEGIN:DAYLIGHT
TZOFFSETFROM:-0500
TZOFFSETTO:-0400
TZNAME:EDT
DTSTART:20240310T070000
END:DAYLIGHT
BEGIN:STANDARD
TZOFFSETFROM:-0400
TZOFFSETTO:-0500
TZNAME:EST
DTSTART:20241103T060000
END:STANDARD
END:VTIMEZONE
BEGIN:VEVENT
DTSTART;TZID=America/Toronto:20231016T190000
DTEND;TZID=America/Toronto:20231016T203000
DTSTAMP:20260421T011433
CREATED:20230829T031500Z
LAST-MODIFIED:20230829T031505Z
UID:5974-1697482800-1697488200@quintessentialrelaxation.ca
SUMMARY:Sound Healing with Restorative Yoga
DESCRIPTION:Immerse yourself in a harmonious journey of healing and relaxation with our Sound Healing with Restorative Yoga event. Join us Tina Quinlan and Angela Bryson for a serene experience that combines the therapeutic benefits of restorative yoga postures with the soothing vibrations of sound therapy. Let the gentle sounds of singing bowls\, chimes\, and other instruments guide you into a state of deep tranquility\, enhancing your body’s natural ability to heal and rejuvenate. Whether you’re seeking stress relief\, emotional balance\, or simply a moment of stillness\, this event offers a unique blend of practices to nourish your mind\, body\, and soul. \n 
URL:https://quintessentialrelaxation.ca/event/sound-healing-with-restorative-yoga-3/
LOCATION:The Mindful Hub\, 405 Nyberg street\, Kitchener\, ON\, Canada
ORGANIZER;CN="Quintessential Relaxation":MAILTO:quint.relaxation@gmail.com
END:VEVENT
BEGIN:VEVENT
DTSTART;TZID=America/Toronto:20231028T100000
DTEND;TZID=America/Toronto:20231028T113000
DTSTAMP:20260421T011433
CREATED:20230829T032343Z
LAST-MODIFIED:20230829T032351Z
UID:5976-1698487200-1698492600@quintessentialrelaxation.ca
SUMMARY:Sound Healing with Meditation Full Moon Quest
DESCRIPTION:A sound bath is a unique and immersive experience that utilizes the power of sound to promote deep relaxation and healing. As you settle into a cozy\, welcoming space\, you’ll be enveloped by the enchanting tones of various instruments\, such as crystal singing bowls\, Tibetan bowls\, chimes\, and even nature sounds. These melodious vibrations are carefully crafted to create a symphony of pure bliss that resonates with the very core of your being.\nAs the harmonies and vibrations wash over you\, you may find yourself entering a state of profound relaxation\, where stress simply evaporates\, and tension dissolves. The sound waves penetrate your cells\, releasing stored emotions and promoting a sense of renewal. You may experience a gentle tingling or a soothing warmth as your energetic pathways align\, allowing vital energy to flow freely once again.\nThe integrated energy healing will enhance the healing and allow for more space so you naturally find your alignment and flow.\nWhether you seek a momentary escape from the demands of everyday life or a deeper exploration of your inner self\, a sound bath and integrated energy healing offers an oasis of relaxation\, joy\, and renewal. So\, come join us on this enchanting journey\, and let the melodies and healing energies embrace you in a transformative embrace that will leave you feeling refreshed\, restored\, and reconnected.
URL:https://quintessentialrelaxation.ca/event/sound-healing-with-meditation-full-moon-quest/
LOCATION:The Mindful Hub\, 405 Nyberg street\, Kitchener\, ON\, Canada
ORGANIZER;CN="Quintessential Relaxation":MAILTO:quint.relaxation@gmail.com
END:VEVENT
END:VCALENDAR