BEGIN:VCALENDAR
VERSION:2.0
PRODID:-//Quintessential Relaxation - ECPv6.15.17//NONSGML v1.0//EN
CALSCALE:GREGORIAN
METHOD:PUBLISH
X-WR-CALNAME:Quintessential Relaxation
X-ORIGINAL-URL:https://quintessentialrelaxation.ca
X-WR-CALDESC:Events for Quintessential Relaxation
REFRESH-INTERVAL;VALUE=DURATION:PT1H
X-Robots-Tag:noindex
X-PUBLISHED-TTL:PT1H
BEGIN:VTIMEZONE
TZID:America/Toronto
BEGIN:DAYLIGHT
TZOFFSETFROM:-0500
TZOFFSETTO:-0400
TZNAME:EDT
DTSTART:20230312T070000
END:DAYLIGHT
BEGIN:STANDARD
TZOFFSETFROM:-0400
TZOFFSETTO:-0500
TZNAME:EST
DTSTART:20231105T060000
END:STANDARD
BEGIN:DAYLIGHT
TZOFFSETFROM:-0500
TZOFFSETTO:-0400
TZNAME:EDT
DTSTART:20240310T070000
END:DAYLIGHT
BEGIN:STANDARD
TZOFFSETFROM:-0400
TZOFFSETTO:-0500
TZNAME:EST
DTSTART:20241103T060000
END:STANDARD
BEGIN:DAYLIGHT
TZOFFSETFROM:-0500
TZOFFSETTO:-0400
TZNAME:EDT
DTSTART:20250309T070000
END:DAYLIGHT
BEGIN:STANDARD
TZOFFSETFROM:-0400
TZOFFSETTO:-0500
TZNAME:EST
DTSTART:20251102T060000
END:STANDARD
END:VTIMEZONE
BEGIN:VEVENT
DTSTART;TZID=America/Toronto:20240210T100000
DTEND;TZID=America/Toronto:20240210T113000
DTSTAMP:20260420T181949
CREATED:20240128T000030Z
LAST-MODIFIED:20240128T001857Z
UID:6026-1707559200-1707564600@quintessentialrelaxation.ca
SUMMARY:Come Find Your Zen Meditation and Sound Healing
DESCRIPTION:Join me for a transformative experience at the “Come Find Your Zen” Meditation Sound Healing Session. Immerse yourself in soothing sounds\, find inner peace\, and elevate your well-being.  \nExperience the joy of giving and receiving at this “Pay What You Want” event in a safe and welcoming environment. Join me for a memorable gathering where you embrace community\, share positive vibes\, and contribute to a shared sense of well-being. \nReserve your spot now for a rejuvenating journey into mindfulness and tranquility. Gift yourself\, your friend\, your partner or family member. \nLimited spots available to ensure a hands-on experience for all!  \nRegister here using payPal ($2.50 fee) or direct message me to register and pay through e transfer. Cash energy excahnge is always an option but you must register first.  \nI look forward to this journey with you!
URL:https://quintessentialrelaxation.ca/event/come-find-your-zen-meditation-and-sound-healing/
LOCATION:The Waterloo Brain Connections\, 185 Frobisher Dr.\, Waterloo\, Ontario\, N2V 2E6\, Canada
END:VEVENT
END:VCALENDAR