BEGIN:VCALENDAR
VERSION:2.0
PRODID:-//Quintessential Relaxation - ECPv6.15.17//NONSGML v1.0//EN
CALSCALE:GREGORIAN
METHOD:PUBLISH
X-WR-CALNAME:Quintessential Relaxation
X-ORIGINAL-URL:https://quintessentialrelaxation.ca
X-WR-CALDESC:Events for Quintessential Relaxation
REFRESH-INTERVAL;VALUE=DURATION:PT1H
X-Robots-Tag:noindex
X-PUBLISHED-TTL:PT1H
BEGIN:VTIMEZONE
TZID:America/Toronto
BEGIN:DAYLIGHT
TZOFFSETFROM:-0500
TZOFFSETTO:-0400
TZNAME:EDT
DTSTART:20230312T070000
END:DAYLIGHT
BEGIN:STANDARD
TZOFFSETFROM:-0400
TZOFFSETTO:-0500
TZNAME:EST
DTSTART:20231105T060000
END:STANDARD
BEGIN:DAYLIGHT
TZOFFSETFROM:-0500
TZOFFSETTO:-0400
TZNAME:EDT
DTSTART:20240310T070000
END:DAYLIGHT
BEGIN:STANDARD
TZOFFSETFROM:-0400
TZOFFSETTO:-0500
TZNAME:EST
DTSTART:20241103T060000
END:STANDARD
BEGIN:DAYLIGHT
TZOFFSETFROM:-0500
TZOFFSETTO:-0400
TZNAME:EDT
DTSTART:20250309T070000
END:DAYLIGHT
BEGIN:STANDARD
TZOFFSETFROM:-0400
TZOFFSETTO:-0500
TZNAME:EST
DTSTART:20251102T060000
END:STANDARD
END:VTIMEZONE
BEGIN:VEVENT
DTSTART;TZID=America/Toronto:20240411T183000
DTEND;TZID=America/Toronto:20240411T200000
DTSTAMP:20260420T150129
CREATED:20240411T012747Z
LAST-MODIFIED:20240411T012747Z
UID:6060-1712860200-1712865600@quintessentialrelaxation.ca
SUMMARY:Surrender To Simplicity Meditation and Sound Session
DESCRIPTION:Simplicity at its finest.\nYou are welcome to dive into your deep relaxation or slowly wander gradually to your deep state of bliss.\nHowever you choose your practice I will guide you in and out. Your body will submerge into the vibrations of the Crystal bowls and accompanying instruments.\nRegister with me! Tina
URL:https://quintessentialrelaxation.ca/event/surrender-to-simplicity-meditation-and-sound-session/
LOCATION:The Yurt KW\, 508 Duke Street West\, Kitchener\, Ontario\, Canada
END:VEVENT
END:VCALENDAR