BEGIN:VCALENDAR
VERSION:2.0
PRODID:-//Quintessential Relaxation - ECPv6.15.17//NONSGML v1.0//EN
CALSCALE:GREGORIAN
METHOD:PUBLISH
X-WR-CALNAME:Quintessential Relaxation
X-ORIGINAL-URL:https://quintessentialrelaxation.ca
X-WR-CALDESC:Events for Quintessential Relaxation
REFRESH-INTERVAL;VALUE=DURATION:PT1H
X-Robots-Tag:noindex
X-PUBLISHED-TTL:PT1H
BEGIN:VTIMEZONE
TZID:America/Toronto
BEGIN:DAYLIGHT
TZOFFSETFROM:-0500
TZOFFSETTO:-0400
TZNAME:EDT
DTSTART:20230312T070000
END:DAYLIGHT
BEGIN:STANDARD
TZOFFSETFROM:-0400
TZOFFSETTO:-0500
TZNAME:EST
DTSTART:20231105T060000
END:STANDARD
BEGIN:DAYLIGHT
TZOFFSETFROM:-0500
TZOFFSETTO:-0400
TZNAME:EDT
DTSTART:20240310T070000
END:DAYLIGHT
BEGIN:STANDARD
TZOFFSETFROM:-0400
TZOFFSETTO:-0500
TZNAME:EST
DTSTART:20241103T060000
END:STANDARD
BEGIN:DAYLIGHT
TZOFFSETFROM:-0500
TZOFFSETTO:-0400
TZNAME:EDT
DTSTART:20250309T070000
END:DAYLIGHT
BEGIN:STANDARD
TZOFFSETFROM:-0400
TZOFFSETTO:-0500
TZNAME:EST
DTSTART:20251102T060000
END:STANDARD
END:VTIMEZONE
BEGIN:VEVENT
DTSTART;TZID=America/Toronto:20240918T183000
DTEND;TZID=America/Toronto:20240918T200000
DTSTAMP:20260420T070241
CREATED:20240724T162424Z
LAST-MODIFIED:20240724T162424Z
UID:6069-1726684200-1726689600@quintessentialrelaxation.ca
SUMMARY:A Sound Healing journey and a Mindful Minute with Carla Waites!
DESCRIPTION:**🌿 Embrace Change: A Sound Healing Journey with Carla Waites🌿** \nJoin us for an evening of tranquility and renewal as we embark on a transformative sound healing journey combined with a mindful minute meditation. This unique event is designed to help you relieve stress and ease anxiousness as we transition into a new term and season. \n— \n**Event Details:** \n📅 **Date:** September 18th\n🕡 **Time:** 6:30 PM – 8:00 PM\n📍 **Location:** The Yurt\, 508 Duke Street\, Kitchener \n**Investment:** $45.00 \n**🌟 Find Your Inner Peace 🌟** \nBegin the evening with a mindful meditation led by Carla Waites\, where you’ll be guided to connect with your inner self\, quieting the mind and grounding your spirit. \nAs we move into the sound healing journey\, allow the soothing vibrations of sound to wash over you\, dissolving stress and inviting calm and clarity. This sacred practice will help you release what no longer serves you\, making space for new beginnings and spiritual growth. \n— \n**To Register:**\nContact: [quint.relaxation@gmail.com] \n— \n**Let the sounds of healing lead you to a place of peace and renewal. Join us as we step into this new chapter together. 🌿✨** \n 
URL:https://quintessentialrelaxation.ca/event/a-sound-healing-journey-and-a-mindful-minute-with-carla-waites/
END:VEVENT
BEGIN:VEVENT
DTSTART;TZID=America/Toronto:20240929T110000
DTEND;TZID=America/Toronto:20240929T114500
DTSTAMP:20260420T070241
CREATED:20240928T175139Z
LAST-MODIFIED:20240928T175440Z
UID:6074-1727607600-1727610300@quintessentialrelaxation.ca
SUMMARY:Sound Session For Kiddos
DESCRIPTION:**Sound Healing for Kids!** \nJoin me for a special **Sound Healing Session** designed just for kiddos! 🎶✨ \nThis playful and relaxing event will introduce children to the soothing world of sound healing. Using gentle instruments like crystal bowls\, drums and chimes\, we’ll create a calming environment to help little ones unwind\, focus\, and feel more connected to their inner selves. \n**Benefits include:**\n– Improved relaxation and focus 🧘‍♂️\n– Reduced stress and anxiety 😌\n– Enhanced creativity and imagination 🎨\n– A fun and engaging way to explore mindfulness 🎵 \n$25.00 (no extra charge for accompanying adults) \n \nSpaces are limited\, so be sure to reserve your spot today!
URL:https://quintessentialrelaxation.ca/event/sound-session-for-kiddos/
LOCATION:The Yurt KW\, 508 Duke Street West\, Kitchener\, Ontario\, Canada
END:VEVENT
END:VCALENDAR